BEGIN:VCALENDAR
VERSION:2.0
PRODID:-//Silverthorne Theater Company - ECPv6.15.20//NONSGML v1.0//EN
CALSCALE:GREGORIAN
METHOD:PUBLISH
X-ORIGINAL-URL:https://silverthornetheater.org
X-WR-CALDESC:Events for Silverthorne Theater Company
REFRESH-INTERVAL;VALUE=DURATION:PT1H
X-Robots-Tag:noindex
X-PUBLISHED-TTL:PT1H
BEGIN:VTIMEZONE
TZID:America/New_York
BEGIN:DAYLIGHT
TZOFFSETFROM:-0500
TZOFFSETTO:-0400
TZNAME:EDT
DTSTART:20240310T070000
END:DAYLIGHT
BEGIN:STANDARD
TZOFFSETFROM:-0400
TZOFFSETTO:-0500
TZNAME:EST
DTSTART:20241103T060000
END:STANDARD
BEGIN:DAYLIGHT
TZOFFSETFROM:-0500
TZOFFSETTO:-0400
TZNAME:EDT
DTSTART:20250309T070000
END:DAYLIGHT
BEGIN:STANDARD
TZOFFSETFROM:-0400
TZOFFSETTO:-0500
TZNAME:EST
DTSTART:20251102T060000
END:STANDARD
BEGIN:DAYLIGHT
TZOFFSETFROM:-0500
TZOFFSETTO:-0400
TZNAME:EDT
DTSTART:20260308T070000
END:DAYLIGHT
BEGIN:STANDARD
TZOFFSETFROM:-0400
TZOFFSETTO:-0500
TZNAME:EST
DTSTART:20261101T060000
END:STANDARD
END:VTIMEZONE
BEGIN:VEVENT
DTSTART;TZID=America/New_York:20250320T190000
DTEND;TZID=America/New_York:20250320T210000
DTSTAMP:20260423T152103
CREATED:20250301T161616Z
LAST-MODIFIED:20250302T224444Z
UID:5036-1742497200-1742504400@silverthornetheater.org
SUMMARY:Theater Thursdays: the birds the birds the birds
DESCRIPTION:Silverthorne Theater Company presents a staged reading of playwright Harley Erdman’s new musical\, the birds the birds the birds\, with music by Gregory Boover. Directed by Gina Kaufmann\, with music dramaturgy & direction by Kyle Boatwright\, the reading will take place at 7:00pm on Thursday\, March 20th\, 2025 at Holyoke Media as the first event of Silverthorne’s 2025 Theater Thursdays reading series\, with a talkback to follow. Starring Tahmie Der\, Hia Ghosh\, Aaron Mancaniello\, and Sam Samuels. \nTickets are free\, and Silverthorne welcomes donations so that we can continue making our work accessible to all. \nTickets for the birds the birds the birds
URL:https://silverthornetheater.org/event/theater-thursdays-the-birds-the-birds-the-birds/
LOCATION:Holyoke Media\, 1 Court Plaza\, Holyoke\, 01040\, United States
CATEGORIES:Coming Soon,Play Reading Series,Special Events for CALENDAR
ATTACH;FMTTYPE=image/jpeg:https://silverthornetheater.org/wp-content/uploads/2025/03/Birds-ticket-graphic-RL-1-2.jpg
ORGANIZER;CN="Silverthorne Theater Company":MAILTO:silverthornetheater@gmail.com
END:VEVENT
BEGIN:VEVENT
DTSTART;TZID=America/New_York:20250321T170000
DTEND;TZID=America/New_York:20250321T210000
DTSTAMP:20260423T152103
CREATED:20250312T120943Z
LAST-MODIFIED:20250312T120943Z
UID:5051-1742576400-1742590800@silverthornetheater.org
SUMMARY:Auditions for Summer Season 2025
DESCRIPTION:Auditions will take place on Friday\, March 21st\, from 5:00 PM – 9:00 PM\, in Room 204\, Dept. of Theater\, Bromery Center for the Arts\, UMass Amherst. Callbacks will take place Saturday\, March 22nd\, from 1:00 PM – 5:00 PM at the same location. If you would like to audition but aren’t available at any of these times\, or if you have any questions\, please reach out to us at silverthornetheater@gmail.com. \nPlease prepare a 2 minute contemporary monologue for the auditions. \nTo sign up for auditions and learn more\, please click here. \nThe Amateurs by Jordan Harrison\ndirected by Gina Kaufmann\, assisted by Ezekiel Baskin\nJune 13 – June 22 at Hampshire College Theater (Emily Dickinson Hall)\n1st rehearsal: May 19 \nA comedy about a medieval theater troupe fleeing the Black Plague \nCharacters:\nLARKING: the leader\, he plays God\, any race\nBROM: considered the best actor\, he plays Noah\, any race\nHOLLIS: searching for a new acting method\, she plays Noah’s wife\, any race\nRONA: she plays Eve\, any race\nGREGORY: a set designer\, he also plays Sloth\, any race\nPHYSIC: a (secretly) Jewish doctor\, he also sings\, any race \nThe Comeuppance by Branden Jacobs-Jenkins\ndirected by Cordelia Winter Dwyer\nJuly 18 – July 27 at Hampshire College Theater (Emily Dickinson Hall)\n1st rehearsal: June 23 \nIn this electric comedy\, the past shatters the present when a group of friends who call themselves MERGE (The Multi-Ethnic Reject Group) get together for their 20th high school reunion \nCharacters:\nEMILIO: 38 year-old man\, an artist\, Latino and/or BIPOC\nURSULA: 38-year-old woman\, any race\nCAITLIN: 38-year-old woman\, any race\nFRANCISCO: 39-year-old man\, served in the military\, BIPOC\nKRISTINA– a 38-year-old woman\, a doctor\, BIPOC \nSign Up for Auditions
URL:https://silverthornetheater.org/event/auditions-for-summer-season-2025/
LOCATION:Room 204\, Dept. of Theater\, Bromery Center for the Arts\, UMass Amherst\, Room 204\, Dept. of Theater\, Bromery Center for the Arts\, UMass Amherst\, Amherst\, 01003\, United States
CATEGORIES:Auditions,Coming Soon,Special Events for CALENDAR
ATTACH;FMTTYPE=image/jpeg:https://silverthornetheater.org/wp-content/uploads/2025/03/480254114_1064393582397670_5269508464030791709_n.jpg
ORGANIZER;CN="Silverthorne Theater Company":MAILTO:silverthornetheater@gmail.com
END:VEVENT
END:VCALENDAR