BEGIN:VCALENDAR
VERSION:2.0
PRODID:-//Silverthorne Theater Company - ECPv6.15.20//NONSGML v1.0//EN
CALSCALE:GREGORIAN
METHOD:PUBLISH
X-ORIGINAL-URL:https://silverthornetheater.org
X-WR-CALDESC:Events for Silverthorne Theater Company
REFRESH-INTERVAL;VALUE=DURATION:PT1H
X-Robots-Tag:noindex
X-PUBLISHED-TTL:PT1H
BEGIN:VTIMEZONE
TZID:America/New_York
BEGIN:DAYLIGHT
TZOFFSETFROM:-0500
TZOFFSETTO:-0400
TZNAME:EDT
DTSTART:20230312T070000
END:DAYLIGHT
BEGIN:STANDARD
TZOFFSETFROM:-0400
TZOFFSETTO:-0500
TZNAME:EST
DTSTART:20231105T060000
END:STANDARD
BEGIN:DAYLIGHT
TZOFFSETFROM:-0500
TZOFFSETTO:-0400
TZNAME:EDT
DTSTART:20240310T070000
END:DAYLIGHT
BEGIN:STANDARD
TZOFFSETFROM:-0400
TZOFFSETTO:-0500
TZNAME:EST
DTSTART:20241103T060000
END:STANDARD
BEGIN:DAYLIGHT
TZOFFSETFROM:-0500
TZOFFSETTO:-0400
TZNAME:EDT
DTSTART:20250309T070000
END:DAYLIGHT
BEGIN:STANDARD
TZOFFSETFROM:-0400
TZOFFSETTO:-0500
TZNAME:EST
DTSTART:20251102T060000
END:STANDARD
END:VTIMEZONE
BEGIN:VEVENT
DTSTART;TZID=America/New_York:20240502T190000
DTEND;TZID=America/New_York:20240502T203000
DTSTAMP:20260424T102836
CREATED:20240501T224540Z
LAST-MODIFIED:20240501T224927Z
UID:4875-1714676400-1714681800@silverthornetheater.org
SUMMARY:Is Sex Probable?
DESCRIPTION:Silverthorne Theater Company presents a staged reading of Is Sex Possible?\, written and performed by Constance Congdon. \nDirected by Brianna Sloane\, the reading will take place at 7:00pm on Thursday\, May 2nd\, 2024 at the Barn Theater in Belchertown as part of Silverthorne’s 2024 Theater Thursdays reading series. \nTickets are free\, and Silverthorne welcomes donations so that we can continue making our work accessible to all. \nThis reading is made possible by the generous support of the West Springfield Arts Council\, a local agency which is supported by the Mass Cultural Council\, a state agency. \nGet Tickets
URL:https://silverthornetheater.org/event/is-sex-probable/
LOCATION:The Barn Theater\, 715 Federal Street\, Belchertown\, MA\, 01007\, United States
CATEGORIES:Coming Soon,Play Reading Series,Special Events for CALENDAR
ATTACH;FMTTYPE=image/jpeg:https://silverthornetheater.org/wp-content/uploads/2024/05/is-sex-probable.jpeg
ORGANIZER;CN="Silverthorne Theater Company":MAILTO:silverthornetheater@gmail.com
END:VEVENT
END:VCALENDAR