BEGIN:VCALENDAR
VERSION:2.0
PRODID:-//Silverthorne Theater Company - ECPv6.15.20//NONSGML v1.0//EN
CALSCALE:GREGORIAN
METHOD:PUBLISH
X-WR-CALNAME:Silverthorne Theater Company
X-ORIGINAL-URL:https://silverthornetheater.org
X-WR-CALDESC:Events for Silverthorne Theater Company
REFRESH-INTERVAL;VALUE=DURATION:PT1H
X-Robots-Tag:noindex
X-PUBLISHED-TTL:PT1H
BEGIN:VTIMEZONE
TZID:America/New_York
BEGIN:DAYLIGHT
TZOFFSETFROM:-0500
TZOFFSETTO:-0400
TZNAME:EDT
DTSTART:20230312T070000
END:DAYLIGHT
BEGIN:STANDARD
TZOFFSETFROM:-0400
TZOFFSETTO:-0500
TZNAME:EST
DTSTART:20231105T060000
END:STANDARD
BEGIN:DAYLIGHT
TZOFFSETFROM:-0500
TZOFFSETTO:-0400
TZNAME:EDT
DTSTART:20240310T070000
END:DAYLIGHT
BEGIN:STANDARD
TZOFFSETFROM:-0400
TZOFFSETTO:-0500
TZNAME:EST
DTSTART:20241103T060000
END:STANDARD
BEGIN:DAYLIGHT
TZOFFSETFROM:-0500
TZOFFSETTO:-0400
TZNAME:EDT
DTSTART:20250309T070000
END:DAYLIGHT
BEGIN:STANDARD
TZOFFSETFROM:-0400
TZOFFSETTO:-0500
TZNAME:EST
DTSTART:20251102T060000
END:STANDARD
END:VTIMEZONE
BEGIN:VEVENT
DTSTART;TZID=America/New_York:20240210T140000
DTEND;TZID=America/New_York:20240210T160000
DTSTAMP:20260424T150855
CREATED:20240124T225951Z
LAST-MODIFIED:20240124T225951Z
UID:4808-1707573600-1707580800@silverthornetheater.org
SUMMARY:Love Revolution Cabaret
DESCRIPTION:Get ready to rebel\, rejoice\, and revel in love! \nPresenting Love Revolution Cabaret: Silverthorne’s Season Opener Benefit! \nJoin us on February 10\, 2024\, at The Blue Room @ Cityspace in Easthampton — performances at 2:00 PM and 7:00 PM! \nSilverthorne’s Season Opener Benefit is a celebration of all kinds of love – everything except romantic love that is! Our songs challenge norms and celebrate the diverse tapestry of love for our friends\, our children\, our students\, our favorite attorney\, even ourselves. \nThe singers are Silverthorne favorites Frank Aronson*\, Kyle Boatwright\, Stephanie Carlson*\, Tahmie Der\, Michael Garcia\, John Iverson\, Gina Kaufmann and Sam Samuels*\, accompanied by Lauren Bell on piano. Enjoy refreshments and connect with friends old and new as these artists take you on a musical love odyssey with iconic tunes like “For Good” (from Wicked)\, “I’m Here” (from The Color Purple) and the heartwarming “Love Changes Everything” (from Aspects of Love). \nJoining us means more than being in the audience; it means actively fostering the success of Silverthorne Theater. Your engagement directly fuels our ability to fully realize not only this season but seasons to come. Your support is the cornerstone of our artistic endeavors\, and we deeply appreciate your commitment to us and the arts. \n(And – We’ll be announcing our 2024 season at this event!) \nDon’t miss your chance to be part of Love Revolution Cabaret @ The Blue Room in Easthampton! \n\n\n\n\n\n\nTickets
URL:https://silverthornetheater.org/event/love-revolution-cabaret/
LOCATION:The Blue Room\, Cityspace\, 43 Main Street\, Easthampton\, MA\, 01027\, United States
CATEGORIES:Coming Soon,Special Events for CALENDAR
ATTACH;FMTTYPE=image/jpeg:https://silverthornetheater.org/wp-content/uploads/2024/01/love-revolution-banner.jpeg
ORGANIZER;CN="Silverthorne Theater Company":MAILTO:silverthornetheater@gmail.com
END:VEVENT
BEGIN:VEVENT
DTSTART;TZID=America/New_York:20240210T190000
DTEND;TZID=America/New_York:20240210T210000
DTSTAMP:20260424T150855
CREATED:20240124T230031Z
LAST-MODIFIED:20240124T230031Z
UID:4813-1707591600-1707598800@silverthornetheater.org
SUMMARY:Love Revolution Cabaret
DESCRIPTION:Get ready to rebel\, rejoice\, and revel in love! \nPresenting Love Revolution Cabaret: Silverthorne’s Season Opener Benefit! \nJoin us on February 10\, 2024\, at The Blue Room @ Cityspace in Easthampton — performances at 2:00 PM and 7:00 PM! \nSilverthorne’s Season Opener Benefit is a celebration of all kinds of love – everything except romantic love that is! Our songs challenge norms and celebrate the diverse tapestry of love for our friends\, our children\, our students\, our favorite attorney\, even ourselves. \nThe singers are Silverthorne favorites Frank Aronson*\, Kyle Boatwright\, Stephanie Carlson*\, Tahmie Der\, Michael Garcia\, John Iverson\, Gina Kaufmann and Sam Samuels*\, accompanied by Lauren Bell on piano. Enjoy refreshments and connect with friends old and new as these artists take you on a musical love odyssey with iconic tunes like “For Good” (from Wicked)\, “I’m Here” (from The Color Purple) and the heartwarming “Love Changes Everything” (from Aspects of Love). \nJoining us means more than being in the audience; it means actively fostering the success of Silverthorne Theater. Your engagement directly fuels our ability to fully realize not only this season but seasons to come. Your support is the cornerstone of our artistic endeavors\, and we deeply appreciate your commitment to us and the arts. \n(And – We’ll be announcing our 2024 season at this event!) \nDon’t miss your chance to be part of Love Revolution Cabaret @ The Blue Room in Easthampton! \n\n\n\n\n\n\nTickets
URL:https://silverthornetheater.org/event/love-revolution-cabaret-2/
LOCATION:The Blue Room\, Cityspace\, 43 Main Street\, Easthampton\, MA\, 01027\, United States
CATEGORIES:Coming Soon,Special Events for CALENDAR
ATTACH;FMTTYPE=image/jpeg:https://silverthornetheater.org/wp-content/uploads/2024/01/love-revolution-banner.jpeg
ORGANIZER;CN="Silverthorne Theater Company":MAILTO:silverthornetheater@gmail.com
END:VEVENT
BEGIN:VEVENT
DTSTART;TZID=America/New_York:20240229T190000
DTEND;TZID=America/New_York:20240229T210000
DTSTAMP:20260424T150855
CREATED:20240215T030939Z
LAST-MODIFIED:20240215T030939Z
UID:4829-1709233200-1709240400@silverthornetheater.org
SUMMARY:Tight Pants
DESCRIPTION:Silverthorne Theater Company presents a staged reading of playwright Betel Arnold’s Tight Pants. Directed by Pedro Eiras\, the reading will take place at 7:00pm on Thursday\, February 29th\, 2024 at the Holyoke Media as the first event of Silverthorne’s 2024 Theater Thursdays reading series\, with a talkback to follow. Starring Malory Rojas Grillo\, Ami Saar\, Maryliz Guzman\, Nathalie Vicencio\, Michael Garcia\, Michael Morales\, and Julio Varella. \nTickets are free\, and Silverthorne welcomes donations so that we can continue making our work accessible to all. \nBetel Arnold is a Dominican playwright and advocate for people with disabilities. She earned her MFA in Creative Writing at Western New England University. Her plays include It Is Finished\, The Building and El Colmado. Arnold was also the longtime host and director-producer of Simply Talking\, a cable access program which ran on over a dozen Western MA channels from 2009-2014. Her passion lies in advocating for the rights of people with physical and intellectual disabilities\, which inspired her to create the Arts Project. As co-founder of the Arts Project\, she has produced and directed various works in Western Massachusetts\, including “Extraordinary People with Extraordinary Talents” at the Basketball Hall of Fame and “A Night to Believe” to sell-out audiences in Massachusetts. Arnold is the recipient of the 2004 Citation of Recognition from the Commonwealth of Massachusetts House of Representatives\, as well as the 2005 Citation of Recognition from Commonwealth of Massachusetts State Senate. \nFounded in 2014\, Silverthorne Theater Company’s mission is to engage Valley artists and audiences in the conversations of our time with bold\, intimate\, professional theater. The Company’s Theater Thursdays reading series primarily supports playwrights in the development of new works\, with a focus on writers whose voices have historically been underrepresented in the industry. \nThis reading is made possible by the generous support of the Holyoke Cultural Council and the West Springfield Cultural Council\, local agencies which are supported by the Mass Cultural Council\, a state agency. \nReserve Your Tickets
URL:https://silverthornetheater.org/event/tight-pants/
LOCATION:Holyoke Media\, 1 Court Plaza\, Holyoke\, 01040\, United States
CATEGORIES:Coming Soon,Play Reading Series,Season Shows for CALENDAR
ATTACH;FMTTYPE=image/jpeg:https://silverthornetheater.org/wp-content/uploads/2024/02/TightPantsTT.jpg
ORGANIZER;CN="Silverthorne Theater Company":MAILTO:silverthornetheater@gmail.com
END:VEVENT
END:VCALENDAR