BEGIN:VCALENDAR
VERSION:2.0
PRODID:-//Silverthorne Theater Company - ECPv6.15.20//NONSGML v1.0//EN
CALSCALE:GREGORIAN
METHOD:PUBLISH
X-WR-CALNAME:Silverthorne Theater Company
X-ORIGINAL-URL:https://silverthornetheater.org
X-WR-CALDESC:Events for Silverthorne Theater Company
REFRESH-INTERVAL;VALUE=DURATION:PT1H
X-Robots-Tag:noindex
X-PUBLISHED-TTL:PT1H
BEGIN:VTIMEZONE
TZID:America/New_York
BEGIN:DAYLIGHT
TZOFFSETFROM:-0500
TZOFFSETTO:-0400
TZNAME:EDT
DTSTART:20250309T070000
END:DAYLIGHT
BEGIN:STANDARD
TZOFFSETFROM:-0400
TZOFFSETTO:-0500
TZNAME:EST
DTSTART:20251102T060000
END:STANDARD
BEGIN:DAYLIGHT
TZOFFSETFROM:-0500
TZOFFSETTO:-0400
TZNAME:EDT
DTSTART:20260308T070000
END:DAYLIGHT
BEGIN:STANDARD
TZOFFSETFROM:-0400
TZOFFSETTO:-0500
TZNAME:EST
DTSTART:20261101T060000
END:STANDARD
BEGIN:DAYLIGHT
TZOFFSETFROM:-0500
TZOFFSETTO:-0400
TZNAME:EDT
DTSTART:20270314T070000
END:DAYLIGHT
BEGIN:STANDARD
TZOFFSETFROM:-0400
TZOFFSETTO:-0500
TZNAME:EST
DTSTART:20271107T060000
END:STANDARD
END:VTIMEZONE
BEGIN:VEVENT
DTSTART;TZID=America/New_York:20260402T190000
DTEND;TZID=America/New_York:20260402T210000
DTSTAMP:20260423T025751
CREATED:20260318T231137Z
LAST-MODIFIED:20260318T231331Z
UID:5144-1775156400-1775163600@silverthornetheater.org
SUMMARY:The Employee Dharma Handbook
DESCRIPTION:Our first Theater Thursday reading of 2026! \n\n\n\n\nSilverthorne Theater Company presents a staged reading of playwright Geetha Reddy’s new play\, The Employee Dharma Handbook. Directed by Hia Ghosh and Rose Schwietz Malla\, the reading will take place at 7:00pm on Thursday\, April 2nd\, 2026 at Holyoke Media in Holyoke as a part of Silverthorne’s 2026 Theater Thursdays reading series\, with a talkback to follow. Starring Meena Cunniffe\, Hia Ghosh\, Sabine Denise Jacques\, Suraj Malla\, and Saikiran Mullaguri\, with stage directions read by Urgyen Joshi. \nTickets are free\, and Silverthorne welcomes donations so that we can continue making our work accessible to all. \nThis reading is made possible by the generous support of the Holyoke Cultural Council\, a local agency which is supported by the Mass Cultural Council\, a state agency. \n\n\nGet Tickets for The Employee Dharma Handbook
URL:https://silverthornetheater.org/event/the-employee-dharma-handbook/
LOCATION:Holyoke Media\, 1 Court Plaza\, Holyoke\, 01040\, United States
CATEGORIES:Play Reading Series,Season Shows for CALENDAR
ATTACH;FMTTYPE=image/jpeg:https://silverthornetheater.org/wp-content/uploads/2026/03/EDH-digital-graphic.jpg
ORGANIZER;CN="Silverthorne Theater Company":MAILTO:silverthornetheater@gmail.com
END:VEVENT
END:VCALENDAR