BEGIN:VCALENDAR
VERSION:2.0
PRODID:-//Silverthorne Theater Company - ECPv6.15.20//NONSGML v1.0//EN
CALSCALE:GREGORIAN
METHOD:PUBLISH
X-WR-CALNAME:Silverthorne Theater Company
X-ORIGINAL-URL:https://silverthornetheater.org
X-WR-CALDESC:Events for Silverthorne Theater Company
REFRESH-INTERVAL;VALUE=DURATION:PT1H
X-Robots-Tag:noindex
X-PUBLISHED-TTL:PT1H
BEGIN:VTIMEZONE
TZID:America/New_York
BEGIN:DAYLIGHT
TZOFFSETFROM:-0500
TZOFFSETTO:-0400
TZNAME:EDT
DTSTART:20240310T070000
END:DAYLIGHT
BEGIN:STANDARD
TZOFFSETFROM:-0400
TZOFFSETTO:-0500
TZNAME:EST
DTSTART:20241103T060000
END:STANDARD
BEGIN:DAYLIGHT
TZOFFSETFROM:-0500
TZOFFSETTO:-0400
TZNAME:EDT
DTSTART:20250309T070000
END:DAYLIGHT
BEGIN:STANDARD
TZOFFSETFROM:-0400
TZOFFSETTO:-0500
TZNAME:EST
DTSTART:20251102T060000
END:STANDARD
BEGIN:DAYLIGHT
TZOFFSETFROM:-0500
TZOFFSETTO:-0400
TZNAME:EDT
DTSTART:20260308T070000
END:DAYLIGHT
BEGIN:STANDARD
TZOFFSETFROM:-0400
TZOFFSETTO:-0500
TZNAME:EST
DTSTART:20261101T060000
END:STANDARD
END:VTIMEZONE
BEGIN:VEVENT
DTSTART;TZID=America/New_York:20250613T193000
DTEND;TZID=America/New_York:20250613T213000
DTSTAMP:20260423T122245
CREATED:20250414T234541Z
LAST-MODIFIED:20250414T234541Z
UID:5077-1749843000-1749850200@silverthornetheater.org
SUMMARY:The Amateurs
DESCRIPTION:Silverthorne Theater Company presents the first mainstage production of our 2025 summer season\, Jordan Harrison’s The Amateurs. Directed by Gina Kaufmann\, performances will take place at the Mainstage Theater at Hampshire College in Amherst\, from June 13th – 22nd. \nIn this Pulitzer Prize finalist\, a rag-tag theater troupe races across medieval Europe\, struggling to outrun the Black Death. Their performances of crowd-pleasers such as “The Seven Deadly Sins” and “Noah’s Ark” are juxtaposed with witty\, contemporary-feeling relationships\, surprising sexual attractions and status games. The Amateurs examines the value of art and creativity in the face of an epic crisis. \nStarring Sabine Denise Jacques\, Caleb Koval\, Gabe Levey\, Sam Samuels*\, Mayte Sarmiento\, and Patrick Toole. \nThis production is made possible by the generous support of the Community Foundation of Western Massachusetts\, the Mass Cultural Council and the Amherst Cultural Council\, Pelham Cultural Council\, Hadley Cultural Council\, and South Hadley Cultural Council\, local agencies which are supported by the Mass Cultural Council\, a state agency. \nTickets for “The Amateurs”
URL:https://silverthornetheater.org/event/the-amateurs/
LOCATION:Hampshire College\, Mainstage Theater\, Emily Dickinson Hall\, Hampshire College 893 West Street\, Amherst\, MA\, 01002\, United States
CATEGORIES:Season Shows for CALENDAR
ATTACH;FMTTYPE=image/png:https://silverthornetheater.org/wp-content/uploads/2025/04/unnamed-2.png
ORGANIZER;CN="Silverthorne Theater Company":MAILTO:silverthornetheater@gmail.com
END:VEVENT
END:VCALENDAR